BEGIN:VCALENDAR
VERSION:2.0
PRODID:-//ChamberMaster//Event Calendar 2.0//EN
METHOD:PUBLISH
X-PUBLISHED-TTL:P3D
REFRESH-INTERVAL:P3D
CALSCALE:GREGORIAN
BEGIN:VEVENT
DTSTART:20170610T170000Z
DTEND:20170610T210000Z
X-MICROSOFT-CDO-ALLDAYEVENT:FALSE
SUMMARY:Young Executive Golf Tournament
DESCRIPTION:Young Executive GOLF TOURNAMENT\n\nSaturday\, June 10\, 2017 \n\n1 p.m. | Shotgun start \n\nComplimentary* for YEX and Social Members\, plus their guests \n\nJoin us for a fun-filled day on the course! Bring your friends age 45 and under to play in this fun event. During the tournament\, enjoy:\n\nPlay is limited to the first 15 teams\, so RSVP today! \n\nDiane Henshall\, Membership Director\n\n386.668.1705 x: 234 | diane.henshall@clubcorp.com
X-ALT-DESC;FMTTYPE=text/html:<p>&nbsp\;</p>\n\n<p>&nbsp\;</p>\n\n<p><strong>Young Executive </strong>GOLF TOURNAMENT</p>\n\n<p><strong>Saturday\, June 10\, 2017 </strong></p>\n\n<p><strong>1 p.m. | Shotgun start </strong></p>\n\n<p><strong>Complimentary<sup>* for YEX and Social Members\, plus their guests </sup></strong></p>\n\n<p>Join us for a fun-filled day on the course! Bring your friends age 45 and under to play in this fun event. During the tournament\, enjoy:</p>\n\n<p><strong>Play is limited to the first 15 teams\, so RSVP today! </strong></p>\n\n<p>Diane Henshall\, Membership Director</p>\n\n<p><strong>386.668.1705 x: 234 </strong>| diane.henshall@clubcorp.com</p>\n
LOCATION:Debary Golf and Country Club
UID:e.2138.6742
SEQUENCE:3
DTSTAMP:20260424T000526Z
URL:https://business.seminolebusiness.org/events/details/young-executive-golf-tournament-6742
END:VEVENT

END:VCALENDAR
