BEGIN:VCALENDAR
VERSION:2.0
PRODID:-//ChamberMaster//Event Calendar 2.0//EN
METHOD:PUBLISH
X-PUBLISHED-TTL:P3D
REFRESH-INTERVAL:P3D
CALSCALE:GREGORIAN
BEGIN:VEVENT
DTSTART:20161030T130000Z
DTEND:20161030T190000Z
X-MICROSOFT-CDO-ALLDAYEVENT:FALSE
SUMMARY:ZOO BOO Bash at the Central Florida Zoo!
DESCRIPTION:Trick-or-treat in the wildest neighborhood in town during ZOO Boo Bash. It's a safe\, fun\, and not-too-scary event for young and old alike. Kids are invited to bring goody bags and wear costumes for trick or treat stations. If you forget your costume\, not a problem\, our face painter will help you fit right in. Walk on Water Balls will also be available for an additional charge. Learn about the myths and realities of some misunderstood animals. \n\n\n	Costume Contest: 1:00 p.m. each day\n\n	\n		Animal themed costumes - one for under 3 years of age and one for 3 to 12 year olds\n		Non-animal themed costumes - one for under 3 years of age and one for 3 to 12 year olds\n		Group costumes   all ages
X-ALT-DESC;FMTTYPE=text/html:<span style="font-size:12px"><span style="font-family:arial\,helvetica\,sans-serif"><big>Trick-or-treat in the wildest neighborhood in town during ZOO Boo Bash. It&rsquo\;s a safe\, fun\, and not-too-scary event for young and old alike. Kids are invited to bring goody bags and wear costumes for trick or treat stations. If you forget your costume\, not a problem\, our face painter will help you fit right in. Walk on Water Balls will also be available for an additional charge. Learn about the myths and realities of some misunderstood animals.&nbsp\;</big></span></span>\n\n<ul>\n	<li><span style="font-size:12px"><span style="font-family:arial\,helvetica\,sans-serif"><big>Costume Contest: 1:00 p.m. each day</big></span></span>\n\n	<ul style="list-style-type:circle">\n		<li><span style="font-size:12px"><span style="font-family:arial\,helvetica\,sans-serif"><big>Animal themed costumes - one for under 3 years of age and one for 3 to 12 year olds</big></span></span></li>\n		<li><span style="font-size:12px"><span style="font-family:arial\,helvetica\,sans-serif"><big>Non-animal themed costumes - one for under 3 years of age and one for 3 to 12 year olds</big></span></span></li>\n		<li><span style="font-size:12px"><span style="font-family:arial\,helvetica\,sans-serif"><big>Group costumes &ndash\; all ages&nbsp\;</big></span></span></li>\n	</ul>\n	</li>\n</ul>\n
LOCATION:3755 NW Highway 17-92\, Sanford\, FL 32771
UID:e.2138.4795
SEQUENCE:3
DTSTAMP:20260425T164902Z
URL:https://business.seminolebusiness.org/events/details/zoo-boo-bash-at-the-central-florida-zoo-10-30-2016-4795
END:VEVENT

END:VCALENDAR
